BEGIN:VCALENDAR
VERSION:2.0
PRODID:-//CDS Life Transitions - ECPv6.15.20//NONSGML v1.0//EN
CALSCALE:GREGORIAN
METHOD:PUBLISH
X-WR-CALNAME:CDS Life Transitions
X-ORIGINAL-URL:https://cdslifetransitions.org
X-WR-CALDESC:Events for CDS Life Transitions
REFRESH-INTERVAL;VALUE=DURATION:PT1H
X-Robots-Tag:noindex
X-PUBLISHED-TTL:PT1H
BEGIN:VTIMEZONE
TZID:America/New_York
BEGIN:DAYLIGHT
TZOFFSETFROM:-0500
TZOFFSETTO:-0400
TZNAME:EDT
DTSTART:20230312T070000
END:DAYLIGHT
BEGIN:STANDARD
TZOFFSETFROM:-0400
TZOFFSETTO:-0500
TZNAME:EST
DTSTART:20231105T060000
END:STANDARD
BEGIN:DAYLIGHT
TZOFFSETFROM:-0500
TZOFFSETTO:-0400
TZNAME:EDT
DTSTART:20240310T070000
END:DAYLIGHT
BEGIN:STANDARD
TZOFFSETFROM:-0400
TZOFFSETTO:-0500
TZNAME:EST
DTSTART:20241103T060000
END:STANDARD
BEGIN:DAYLIGHT
TZOFFSETFROM:-0500
TZOFFSETTO:-0400
TZNAME:EDT
DTSTART:20250309T070000
END:DAYLIGHT
BEGIN:STANDARD
TZOFFSETFROM:-0400
TZOFFSETTO:-0500
TZNAME:EST
DTSTART:20251102T060000
END:STANDARD
END:VTIMEZONE
BEGIN:VEVENT
DTSTART;TZID=America/New_York:20241115T180000
DTEND;TZID=America/New_York:20241115T210000
DTSTAMP:20260419T080407
CREATED:20240904T202851Z
LAST-MODIFIED:20250311T150009Z
UID:7464-1731693600-1731704400@cdslifetransitions.org
SUMMARY:First Annual CDS Wolf Foundation Gala
DESCRIPTION:[vc_row][vc_column][vc_column_text css=”.vc_custom_1725548305135{margin-bottom: 0px !important;}”]The CDS Wolf Foundation Gala supports CDS Life Transitions and its affiliates that serve over 15\,500 individuals\, including those with intellectual and developmental disabilities\, families\, senior citizens\, those with chronic medical conditions\, and Veterans.[/vc_column_text][/vc_column][/vc_row]
URL:https://cdslifetransitions.org/event/first-annual-cds-wolf-foundation-gala/
LOCATION:Arbor Midtown\, 183 East Main Street\, Rochester\, NY\, 14604\, United States
CATEGORIES:cds-wolf events,cdslt events
ATTACH;FMTTYPE=image/png:https://cdslifetransitions.org/wp-content/uploads/2024/09/gala-event-website.png
END:VEVENT
END:VCALENDAR